BEGIN:VCALENDAR
VERSION:2.0
PRODID:-//Central Lutheran Church - ECPv6.15.20//NONSGML v1.0//EN
CALSCALE:GREGORIAN
METHOD:PUBLISH
X-ORIGINAL-URL:https://www.centralmpls.org
X-WR-CALDESC:Events for Central Lutheran Church
REFRESH-INTERVAL;VALUE=DURATION:PT1H
X-Robots-Tag:noindex
X-PUBLISHED-TTL:PT1H
BEGIN:VTIMEZONE
TZID:America/Chicago
BEGIN:DAYLIGHT
TZOFFSETFROM:-0600
TZOFFSETTO:-0500
TZNAME:CDT
DTSTART:20250309T080000
END:DAYLIGHT
BEGIN:STANDARD
TZOFFSETFROM:-0500
TZOFFSETTO:-0600
TZNAME:CST
DTSTART:20251102T070000
END:STANDARD
BEGIN:DAYLIGHT
TZOFFSETFROM:-0600
TZOFFSETTO:-0500
TZNAME:CDT
DTSTART:20260308T080000
END:DAYLIGHT
BEGIN:STANDARD
TZOFFSETFROM:-0500
TZOFFSETTO:-0600
TZNAME:CST
DTSTART:20261101T070000
END:STANDARD
BEGIN:DAYLIGHT
TZOFFSETFROM:-0600
TZOFFSETTO:-0500
TZNAME:CDT
DTSTART:20270314T080000
END:DAYLIGHT
BEGIN:STANDARD
TZOFFSETFROM:-0500
TZOFFSETTO:-0600
TZNAME:CST
DTSTART:20271107T070000
END:STANDARD
END:VTIMEZONE
BEGIN:VEVENT
DTSTART;VALUE=DATE:20260406
DTEND;VALUE=DATE:20260411
DTSTAMP:20260419T161411
CREATED:20250610T185013Z
LAST-MODIFIED:20260216T164931Z
UID:10013579-1775433600-1775863800@www.centralmpls.org
SUMMARY:Restoration Center Closed
DESCRIPTION:The Restoration Center will be closed Monday\, April 6\, through Thursday\, April 9. We will reopen on Monday\, April 13. \nThere will be no: \n\nFree Store\nHealth Commons\nMonday Worship\nCommunity Meals\nSpiritual Listening\nStreetSong MN Rehearsal\nEmergency Rental Assistance Intake\nStreets to Housing\nStreet Voices of Change
URL:https://www.centralmpls.org/event/restoration-center-closed-3/2026-04-06/
LOCATION:Central Lutheran Church\, 333 South 12th Street\, Minneapolis\, MN\, 55404
CATEGORIES:Free Store,Notice,Restoration Center
ATTACH;FMTTYPE=image/png:https://www.centralmpls.org/wp-content/uploads/2025/05/rst-ctr-closed-scaled.png
END:VEVENT
END:VCALENDAR