BEGIN:VCALENDAR
VERSION:2.0
PRODID:-//Central Lutheran Church - ECPv6.15.20//NONSGML v1.0//EN
CALSCALE:GREGORIAN
METHOD:PUBLISH
X-ORIGINAL-URL:https://www.centralmpls.org
X-WR-CALDESC:Events for Central Lutheran Church
REFRESH-INTERVAL;VALUE=DURATION:PT1H
X-Robots-Tag:noindex
X-PUBLISHED-TTL:PT1H
BEGIN:VTIMEZONE
TZID:America/Chicago
BEGIN:DAYLIGHT
TZOFFSETFROM:-0600
TZOFFSETTO:-0500
TZNAME:CDT
DTSTART:20250309T080000
END:DAYLIGHT
BEGIN:STANDARD
TZOFFSETFROM:-0500
TZOFFSETTO:-0600
TZNAME:CST
DTSTART:20251102T070000
END:STANDARD
BEGIN:DAYLIGHT
TZOFFSETFROM:-0600
TZOFFSETTO:-0500
TZNAME:CDT
DTSTART:20260308T080000
END:DAYLIGHT
BEGIN:STANDARD
TZOFFSETFROM:-0500
TZOFFSETTO:-0600
TZNAME:CST
DTSTART:20261101T070000
END:STANDARD
BEGIN:DAYLIGHT
TZOFFSETFROM:-0600
TZOFFSETTO:-0500
TZNAME:CDT
DTSTART:20270314T080000
END:DAYLIGHT
BEGIN:STANDARD
TZOFFSETFROM:-0500
TZOFFSETTO:-0600
TZNAME:CST
DTSTART:20271107T070000
END:STANDARD
END:VTIMEZONE
BEGIN:VEVENT
DTSTART;VALUE=DATE:20260315
DTEND;VALUE=DATE:20260316
DTSTAMP:20260424T055721
CREATED:20260314T155756Z
LAST-MODIFIED:20260314T155756Z
UID:10013782-1773532800-1773619199@www.centralmpls.org
SUMMARY:Winter Weather Closure 3/15
DESCRIPTION:The incoming winter storm will affect worship and activities on Sunday. Here is the plan for the coming snow: Saturday\, 5 p.m. worship will proceed as normal\, with both in-person and online worship. SUNDAY\, THE BUILDING WILL BE CLOSED. WORSHIP WILL BE ONLINE ONLY. \nAdditionally\, all Sunday meetings\, activities\, formation\, etc. are cancelled. For more information\, you can read Pastor Peter’s letter: \nRead Pastor Peter’s Letter
URL:https://www.centralmpls.org/event/winter-weather-closure-3-15/
LOCATION:Central Lutheran Church\, 333 South 12th Street\, Minneapolis\, MN\, 55404
CATEGORIES:Featured Event,Notice
ATTACH;FMTTYPE=image/png:https://www.centralmpls.org/wp-content/uploads/2026/03/winter-weather-scaled.png
END:VEVENT
BEGIN:VEVENT
DTSTART;TZID=America/Chicago:20260315T083000
DTEND;TZID=America/Chicago:20260315T093000
DTSTAMP:20260424T055721
CREATED:20251121T213919Z
LAST-MODIFIED:20260314T160325Z
UID:10013783-1773563400-1773567000@www.centralmpls.org
SUMMARY:Worship
DESCRIPTION:The incoming winter storm will affect worship and activities on Sunday. Here is the plan for the coming snow: Saturday\, 5 p.m. worship will proceed as normal\, with both in-person and online worship. SUNDAY\, THE BUILDING WILL BE CLOSED. WORSHIP WILL BE ONLINE ONLY. \nAdditionally\, all Sunday meetings\, activities\, formation\, etc. are cancelled. For more information\, you can read Pastor Peter’s letter: \nRead Pastor Peter’s Letter \nJoin the Livestream
URL:https://www.centralmpls.org/event/worship-2-2/2026-03-15/1/
LOCATION:Central Lutheran Church\, 333 South 12th Street\, Minneapolis\, MN\, 55404
CATEGORIES:Worship
ATTACH;FMTTYPE=image/jpeg:https://www.centralmpls.org/wp-content/uploads/2025/05/worship-scaled.jpg
END:VEVENT
BEGIN:VEVENT
DTSTART;TZID=America/Chicago:20260315T103000
DTEND;TZID=America/Chicago:20260315T113000
DTSTAMP:20260424T055721
CREATED:20251121T213919Z
LAST-MODIFIED:20260314T160325Z
UID:10013784-1773570600-1773574200@www.centralmpls.org
SUMMARY:Worship
DESCRIPTION:The incoming winter storm will affect worship and activities on Sunday. Here is the plan for the coming snow: Saturday\, 5 p.m. worship will proceed as normal\, with both in-person and online worship. SUNDAY\, THE BUILDING WILL BE CLOSED. WORSHIP WILL BE ONLINE ONLY. \nAdditionally\, all Sunday meetings\, activities\, formation\, etc. are cancelled. For more information\, you can read Pastor Peter’s letter: \nRead Pastor Peter’s Letter \nJoin the Livestream
URL:https://www.centralmpls.org/event/worship-2-2/2026-03-15/2/
LOCATION:Central Lutheran Church\, 333 South 12th Street\, Minneapolis\, MN\, 55404
CATEGORIES:Worship
ATTACH;FMTTYPE=image/jpeg:https://www.centralmpls.org/wp-content/uploads/2025/05/worship-scaled.jpg
END:VEVENT
BEGIN:VEVENT
DTSTART;VALUE=DATE:20260316
DTEND;VALUE=DATE:20260317
DTSTAMP:20260424T055721
CREATED:20260315T225355Z
LAST-MODIFIED:20260315T225355Z
UID:10013803-1773619200-1773705599@www.centralmpls.org
SUMMARY:Winter Weather Closure 3/16
DESCRIPTION:The incoming winter storm will affect worship and activities on Monday. \nFollowing our policy to close when Minneapolis Public Schools closes\, all Monday activities at Central are canceled and the building will be closed. \n 
URL:https://www.centralmpls.org/event/winter-weather-closure-3-16/
LOCATION:Central Lutheran Church\, 333 South 12th Street\, Minneapolis\, MN\, 55404
CATEGORIES:Featured Event,Notice
ATTACH;FMTTYPE=image/png:https://www.centralmpls.org/wp-content/uploads/2026/03/winter-weather-scaled.png
END:VEVENT
BEGIN:VEVENT
DTSTART;TZID=America/Chicago:20260317T080000
DTEND;TZID=America/Chicago:20260317T090000
DTSTAMP:20260424T055721
CREATED:20250525T232356Z
LAST-MODIFIED:20251203T174328Z
UID:10008918-1773734400-1773738000@www.centralmpls.org
SUMMARY:Executive Committee
DESCRIPTION:The Executive Committee is an elected team of four members: President\, Vice-President\, Treasurer\, and Secretary. The Executive Committee meets in advance of the council to plan the meeting agenda and gather the work of other committees\, teams\, and task forces that will need council affirmation and support. \nMeeting Location: Zoom
URL:https://www.centralmpls.org/event/executive-committee/2026-03-17/
LOCATION:Zoom
CATEGORIES:Regular Group Meetings
ATTACH;FMTTYPE=image/png:https://www.centralmpls.org/wp-content/uploads/2025/05/Executive-Committee-scaled.png
END:VEVENT
BEGIN:VEVENT
DTSTART;TZID=America/Chicago:20260317T103000
DTEND;TZID=America/Chicago:20260317T130000
DTSTAMP:20260424T055721
CREATED:20250520T221641Z
LAST-MODIFIED:20251203T190523Z
UID:10006741-1773743400-1773752400@www.centralmpls.org
SUMMARY:Staff Meeting
DESCRIPTION:Central staff is busy with their weekly check-in from 10:30 a.m.-1 p.m. each Tuesday
URL:https://www.centralmpls.org/event/staff-meeting/2026-03-17/
LOCATION:Central Lutheran Church\, 333 South 12th Street\, Minneapolis\, MN\, 55404
CATEGORIES:Regular Group Meetings
ATTACH;FMTTYPE=image/png:https://www.centralmpls.org/wp-content/uploads/2025/05/staff-meeting-scaled.png
END:VEVENT
BEGIN:VEVENT
DTSTART;TZID=America/Chicago:20260317T150000
DTEND;TZID=America/Chicago:20260317T170000
DTSTAMP:20260424T055721
CREATED:20250525T234030Z
LAST-MODIFIED:20251209T202555Z
UID:10009040-1773759600-1773766800@www.centralmpls.org
SUMMARY:Mobile Free Store
DESCRIPTION:Central operates a Mobile Free Store on the third Tuesday of each month. The Mobile Free Store is located at 651 Nicollet Mall. \nLocation: 651 Nicollet Ave.
URL:https://www.centralmpls.org/event/mobile-free-store/2026-03-17/
LOCATION:Mobile Free Store\, 651 Nicollet Ave\, Minneapolis\, MN\, 55402\, United States
CATEGORIES:Free Store
ATTACH;FMTTYPE=image/png:https://www.centralmpls.org/wp-content/uploads/2025/05/Mobile-Free-Store-scaled.png
END:VEVENT
BEGIN:VEVENT
DTSTART;TZID=America/Chicago:20260318T100000
DTEND;TZID=America/Chicago:20260318T120000
DTSTAMP:20260424T055721
CREATED:20250812T165824Z
LAST-MODIFIED:20260310T210822Z
UID:10010337-1773828000-1773835200@www.centralmpls.org
SUMMARY:Free Store Shopping (W)
DESCRIPTION:Free Store Shopping Hours: \nMondays\, 10 a.m. – 11:30 a.m. and 12:30 p.m. – 1 p.m.\nWednesdays\, 10 a.m. – 12 p.m.\nThursdays\, 10 a.m. – 1 p.m. \nNumbers to enter the Free Store are handed out at 8:30 a.m. and 12:30 p.m. on Monday; and 8:30 a.m. on Wednesday and Thursday.  If you have an emergency\, call the church office at (612) 870-4416 regarding scheduling a Tuesday appointment. \nFree Store Donations \nDonations accepted Monday-Thursday\, 9 a.m.-3 p.m. and Sundays\, 9 a.m.-noon
URL:https://www.centralmpls.org/event/free-store-shopping-w/2026-03-18/
LOCATION:Central Lutheran Church\, 333 South 12th Street\, Minneapolis\, MN\, 55404
CATEGORIES:Free Store,Restoration Center
ATTACH;FMTTYPE=image/jpeg:https://www.centralmpls.org/wp-content/uploads/2024/12/Free-Store-scaled.jpg
END:VEVENT
BEGIN:VEVENT
DTSTART;TZID=America/Chicago:20260318T120000
DTEND;TZID=America/Chicago:20260318T133000
DTSTAMP:20260424T055721
CREATED:20251111T195800Z
LAST-MODIFIED:20260310T210612Z
UID:10005964-1773835200-1773840600@www.centralmpls.org
SUMMARY:Emergency Rental Assistance Intake (W)
DESCRIPTION:The Emergency Rental Assistance (ERA) Program allows Align Minneapolis to further its focus on long-term housing solutions by expanding our areas of involvement to include homeless prevention. The program supports individuals and families by providing rental assistance in a time of short-term financial crisis. Central is one of the intake locations for this program. \nFirst come\, first served \nMondays 12:30-2 p.m.\, Wednesdays 12-1:30 p.m. \nLearn More
URL:https://www.centralmpls.org/event/emergency-rental-assistance-intake-2-2/2026-03-18/
LOCATION:Central Lutheran Church\, 333 South 12th Street\, Minneapolis\, MN\, 55404
CATEGORIES:Restoration Center
ATTACH;FMTTYPE=image/png:https://www.centralmpls.org/wp-content/uploads/2025/04/ERA.png
END:VEVENT
BEGIN:VEVENT
DTSTART;TZID=America/Chicago:20260318T120000
DTEND;TZID=America/Chicago:20260318T133000
DTSTAMP:20260424T055721
CREATED:20260210T162154Z
LAST-MODIFIED:20260210T162154Z
UID:10013289-1773835200-1773840600@www.centralmpls.org
SUMMARY:Lenten Midweek Worship and Lunch
DESCRIPTION:This year\, the journey of Lent will be guided by the theme “Common Elements of Home.” Expanding on this year’s program theme\, “Stories of Home\,” we will be grounded in Martin Luther’s reflections on the Sacraments from the Small Catechism. We will also reflect on the ways we understand the common elements of home during the Lenten midweek worship at noon\, which is followed by a soup-and-salad lunch. \nThis service begins at noon and is 30-40 minutes\, followed by lunch. It will be livestreamed. \nJoin the Livestream
URL:https://www.centralmpls.org/event/lenten-midweek-worship-and-lunch/2026-03-18/
LOCATION:Central Lutheran Church\, 333 South 12th Street\, Minneapolis\, MN\, 55404
CATEGORIES:Featured Event,Food,Worship
ATTACH;FMTTYPE=image/jpeg:https://www.centralmpls.org/wp-content/uploads/2026/02/Lent-Midweek-Worship.jpg
END:VEVENT
BEGIN:VEVENT
DTSTART;TZID=America/Chicago:20260318T130000
DTEND;TZID=America/Chicago:20260318T150000
DTSTAMP:20260424T055721
CREATED:20250525T234523Z
LAST-MODIFIED:20251015T191702Z
UID:10009101-1773838800-1773846000@www.centralmpls.org
SUMMARY:Prayer Shawl Knitters
DESCRIPTION:The prayer shawl knitters meet monthly for prayer\, fellowship\, and knitting. \nMeeting Location: Lower Narthex
URL:https://www.centralmpls.org/event/prayer-shawl-knitters/2026-03-18/
LOCATION:Central Lutheran Church\, 333 South 12th Street\, Minneapolis\, MN\, 55404
CATEGORIES:Regular Group Meetings
ATTACH;FMTTYPE=image/png:https://www.centralmpls.org/wp-content/uploads/2025/05/Prayer-Shawl-Knitters-scaled.png
END:VEVENT
BEGIN:VEVENT
DTSTART;TZID=America/Chicago:20260318T180000
DTEND;TZID=America/Chicago:20260318T190000
DTSTAMP:20260424T055721
CREATED:20260206T181242Z
LAST-MODIFIED:20260223T162153Z
UID:10013282-1773856800-1773860400@www.centralmpls.org
SUMMARY:Lenten Bible Study
DESCRIPTION:“Common Elements of Home in the Sacraments”\nLent begins on Ash Wednesday\, February 18. Our Lenten worship series and Wednesday Bible Study will be grounded in Essentials of Home in the Sacraments. Join us on Wednesdays beginning February 25 for good conversations and deep learning about our Lutheran understanding of Baptism\, Communion\, and Confession. \nJoin on Zoom \nStudy Guide
URL:https://www.centralmpls.org/event/lenten-bible-study/2026-03-18/
LOCATION:Central Lutheran Church\, 333 South 12th Street\, Minneapolis\, MN\, 55404
CATEGORIES:Adult Formation,Featured Event
ATTACH;FMTTYPE=image/jpeg:https://www.centralmpls.org/wp-content/uploads/2026/02/Lenten-Bible-Study-1-scaled.jpg
END:VEVENT
BEGIN:VEVENT
DTSTART;TZID=America/Chicago:20260318T190000
DTEND;TZID=America/Chicago:20260318T203000
DTSTAMP:20260424T055721
CREATED:20260210T173731Z
LAST-MODIFIED:20260224T193723Z
UID:10010928-1773860400-1773865800@www.centralmpls.org
SUMMARY:High School Youth Night
DESCRIPTION:After a 10-year absence\, we are going to experiment with a Wednesday night learning time for our high school students. In addition to our Sunday morning fellowship time\, we are planning to meet on the 3rd Wednesday night of each month to learn about and discuss the church’s role in our young people’s lives. We will tend to the big questions about faith\, a life centered in Christ\, and the ways in which we are called to love and serve our neighbors. \nWe will begin the season on Wednesday\, October 22 at 7 p.m. (This is the 4th Wednesday in order to avoid MEA; all other Wednesdays will follow the 3rd Wednesday rule.) Healthy snacks will be provided\, and we will meet from 7 – 8:30 p.m.
URL:https://www.centralmpls.org/event/high-school-youth-night-2/2026-03-18/
LOCATION:Central Lutheran Church\, 333 South 12th Street\, Minneapolis\, MN\, 55404
CATEGORIES:CYF Formation
ATTACH;FMTTYPE=image/jpeg:https://www.centralmpls.org/wp-content/uploads/2025/09/High-School-Youth-Group-scaled.jpg
END:VEVENT
BEGIN:VEVENT
DTSTART;TZID=America/Chicago:20260319T083000
DTEND;TZID=America/Chicago:20260319T100000
DTSTAMP:20260424T055721
CREATED:20250418T225135Z
LAST-MODIFIED:20260310T205829Z
UID:10006224-1773909000-1773914400@www.centralmpls.org
SUMMARY:Street Voices of Change
DESCRIPTION:Street Voices of Change (SVoC) is a group of individuals who have current or past personal experiences with homelessness who come together to build community and make positive changes in the lives of people experiencing homelessness and the systems that contribute to and keep people in homelessness. \nLearn More
URL:https://www.centralmpls.org/event/street-voices-of-change/2026-03-19/
LOCATION:Central Lutheran Church\, 333 South 12th Street\, Minneapolis\, MN\, 55404
CATEGORIES:Restoration Center
ATTACH;FMTTYPE=image/png:https://www.centralmpls.org/wp-content/uploads/2024/12/StreetVoices.png
END:VEVENT
BEGIN:VEVENT
DTSTART;TZID=America/Chicago:20260319T100000
DTEND;TZID=America/Chicago:20260319T113000
DTSTAMP:20260424T055721
CREATED:20260315T225553Z
LAST-MODIFIED:20260315T225553Z
UID:10004711-1773914400-1773919800@www.centralmpls.org
SUMMARY:Health Commons
DESCRIPTION:The Augsburg Central Health Commons\nAnyone looking for diapers\, hygiene supplies\, one-on-one nurse consultations\, or just to have a place to sit and rest are welcome. Volunteers often spend time visiting with members of the community\, distributing donations\, and setting up the space. Faculty\, students\, and volunteers also provide basic care such as blood pressure checks or basic foot care. The hope is that the moments here can allow guests to address their health needs as they deem necessary\, and the work can lead to addressing health inequities and foster healing.
URL:https://www.centralmpls.org/event/health-commons-2-2/2026-03-19/
LOCATION:Central Lutheran Church\, 333 South 12th Street\, Minneapolis\, MN\, 55404
CATEGORIES:Restoration Center
ATTACH;FMTTYPE=image/png:https://www.centralmpls.org/wp-content/uploads/2025/04/ACHealthCommons.png
END:VEVENT
BEGIN:VEVENT
DTSTART;TZID=America/Chicago:20260319T100000
DTEND;TZID=America/Chicago:20260319T130000
DTSTAMP:20260424T055721
CREATED:20250418T225719Z
LAST-MODIFIED:20260310T205920Z
UID:10006484-1773914400-1773925200@www.centralmpls.org
SUMMARY:Streets to Housing
DESCRIPTION:Streets to Housing uses a one-to-one housing-focused approach to work with single adults\, youth\, and families who are staying outside\, in their vehicles\, in encampments\, or in other places unfit for human habitation. The goal is to help transition them to stable housing and decrease unsheltered homelessness across the county. And so far\, it’s working. \nLearn More
URL:https://www.centralmpls.org/event/streets-to-housing/2026-03-19/
LOCATION:Central Lutheran Church\, 333 South 12th Street\, Minneapolis\, MN\, 55404
CATEGORIES:Restoration Center
ATTACH;FMTTYPE=image/png:https://www.centralmpls.org/wp-content/uploads/2025/04/Streets-ti-Housing.png
END:VEVENT
BEGIN:VEVENT
DTSTART;TZID=America/Chicago:20260319T100000
DTEND;TZID=America/Chicago:20260319T130000
DTSTAMP:20260424T055721
CREATED:20250812T170038Z
LAST-MODIFIED:20260310T210856Z
UID:10010598-1773914400-1773925200@www.centralmpls.org
SUMMARY:Free Store Shopping (Th)
DESCRIPTION:Free Store Shopping Hours: \nMondays\, 10 a.m. – 11:30 a.m. and 12:30 p.m. – 1 p.m.\nWednesdays\, 10 a.m. – 12 p.m.\nThursdays\, 10 a.m. – 1 p.m. \nNumbers to enter the Free Store are handed out at 8:30 a.m. and 12:30 p.m. on Monday; and 8:30 a.m. on Wednesday and Thursday.  If you have an emergency\, call the church office at (612) 870-4416 regarding scheduling a Tuesday appointment. \nFree Store Donations \nDonations accepted Monday-Thursday\, 9 a.m.-3 p.m. and Sundays\, 9 a.m.-noon
URL:https://www.centralmpls.org/event/free-store-shopping-th/2026-03-19/
LOCATION:Central Lutheran Church\, 333 South 12th Street\, Minneapolis\, MN\, 55404
CATEGORIES:Free Store,Restoration Center
ATTACH;FMTTYPE=image/jpeg:https://www.centralmpls.org/wp-content/uploads/2024/12/Free-Store-scaled.jpg
END:VEVENT
BEGIN:VEVENT
DTSTART;VALUE=DATE:20260320
DTEND;VALUE=DATE:20260321
DTSTAMP:20260424T055721
CREATED:20250520T223944Z
LAST-MODIFIED:20250530T233222Z
UID:10008044-1773964800-1774051199@www.centralmpls.org
SUMMARY:Building Closed
DESCRIPTION:The Central building is closed on Fridays. \n 
URL:https://www.centralmpls.org/event/building-closed/2026-03-20/
LOCATION:Central Lutheran Church\, 333 South 12th Street\, Minneapolis\, MN\, 55404
CATEGORIES:Notice
ATTACH;FMTTYPE=image/png:https://www.centralmpls.org/wp-content/uploads/2025/05/building-closed-general-scaled.png
END:VEVENT
BEGIN:VEVENT
DTSTART;TZID=America/Chicago:20260321T150000
DTEND;TZID=America/Chicago:20260321T160000
DTSTAMP:20260424T055721
CREATED:20250905T220616Z
LAST-MODIFIED:20260310T203125Z
UID:10013723-1774105200-1774108800@www.centralmpls.org
SUMMARY:Caring Crew
DESCRIPTION:The Caring Crew is Central’s ministry to the folks who are not getting to church as often as they once did. Visits\, cards\, and calls are all part of what they do.
URL:https://www.centralmpls.org/event/caring-crew/2026-03-21/
LOCATION:Central Lutheran Church\, 333 South 12th Street\, Minneapolis\, MN\, 55404
CATEGORIES:Regular Group Meetings
ATTACH;FMTTYPE=image/jpeg:https://www.centralmpls.org/wp-content/uploads/2025/09/Caring-Crew.jpg
END:VEVENT
BEGIN:VEVENT
DTSTART;TZID=America/Chicago:20260321T170000
DTEND;TZID=America/Chicago:20260321T180000
DTSTAMP:20260424T055721
CREATED:20250520T222843Z
LAST-MODIFIED:20260216T165154Z
UID:10007264-1774112400-1774116000@www.centralmpls.org
SUMMARY:Worship (Sa)
DESCRIPTION:Saturday evening worship is a contemplative communion service. Whichever pastor is preaching on Sunday\, preaches and leads worship on Saturday night. The service is guided by a contemplative sense: a slower pace\, room for silence\, and a simpler service order. The altar is on the main floor\, and much of the music is led from a piano within the gathered community. The service is generally about 45 minutes long\, with 40-50 people regularly gathering. After worship\, there is a social time with non-alcoholic beverages\, wine\, beer\, and finger food like cheese and crackers\, dip\, and sweets. \nJoin the Livestream
URL:https://www.centralmpls.org/event/worship-3/2026-03-21/
LOCATION:Central Lutheran Church\, 333 South 12th Street\, Minneapolis\, MN\, 55404
CATEGORIES:Worship
ATTACH;FMTTYPE=image/jpeg:https://www.centralmpls.org/wp-content/uploads/2025/05/worship-scaled.jpg
END:VEVENT
END:VCALENDAR